BEGIN:VCALENDAR
VERSION:2.0
PRODID:-//Heron Lakes Community | Berthoud, CO - ECPv6.13.2.1//NONSGML v1.0//EN
CALSCALE:GREGORIAN
METHOD:PUBLISH
X-WR-CALNAME:Heron Lakes Community | Berthoud, CO
X-ORIGINAL-URL:https://www.heronlakescommunity.com
X-WR-CALDESC:Events for Heron Lakes Community | Berthoud, CO
REFRESH-INTERVAL;VALUE=DURATION:PT1H
X-Robots-Tag:noindex
X-PUBLISHED-TTL:PT1H
BEGIN:VTIMEZONE
TZID:UTC
BEGIN:STANDARD
TZOFFSETFROM:+0000
TZOFFSETTO:+0000
TZNAME:UTC
DTSTART:20250101T000000
END:STANDARD
END:VTIMEZONE
BEGIN:VEVENT
DTSTART;TZID=UTC:20260225T160000
DTEND;TZID=UTC:20260225T180000
DTSTAMP:20260419T171556
CREATED:20260205T162246Z
LAST-MODIFIED:20260205T162246Z
UID:2608-1772035200-1772042400@www.heronlakescommunity.com
SUMMARY:Resident Happy Hour
DESCRIPTION:
URL:https://www.heronlakescommunity.com/event/resident-happy-hour-5/
LOCATION:TPC Colorado\, 2375 TPC Parkway\, Berthoud\, Colorado\, 80513
END:VEVENT
BEGIN:VEVENT
DTSTART;TZID=UTC:20251231T160000
DTEND;TZID=UTC:20251231T210000
DTSTAMP:20260419T171556
CREATED:20250409T210346Z
LAST-MODIFIED:20251204T164712Z
UID:2426-1767196800-1767214800@www.heronlakescommunity.com
SUMMARY:Prime Rib Night
DESCRIPTION:Join us for our prime rib night! On New Year’s Eve\, enjoy a 12oz prime rib from 4:00pm to close. \nReservations are strongly suggested to ensure you get a spot. Call 970-528-7073 or reserve online.
URL:https://www.heronlakescommunity.com/event/prime-rib-night-9/
LOCATION:Center Stage at TPC Colorado\, 2375 TPC Parkway\, Berthoud\, Colorado\, 80513
ATTACH;FMTTYPE=image/png:https://www.heronlakescommunity.com/wp-content/uploads/2025/04/Prime-Rib-Special-Sundays-1.png
END:VEVENT
BEGIN:VEVENT
DTSTART;TZID=UTC:20251206T100000
DTEND;TZID=UTC:20251206T190000
DTSTAMP:20260419T171556
CREATED:20251204T164152Z
LAST-MODIFIED:20251204T164336Z
UID:2583-1765015200-1765047600@www.heronlakescommunity.com
SUMMARY:A Very Merry Berthoud
DESCRIPTION:Enjoy beautiful lights and festive activities while connecting with your community as the Town of Berthoud kicks off the holiday season. Take photos with Santa\, listen to holiday carolers\, decorate gingerbread cookies\, go ice skating\, shop the markets\, and watch the beloved Parade of Lights. \n  \nVisit www.berthoud.org/1605/A-Very-Merry-Berthoud for more information
URL:https://www.heronlakescommunity.com/event/a-very-merry-berthoud/
LOCATION:Colorado
ATTACH;FMTTYPE=image/jpeg:https://www.heronlakescommunity.com/wp-content/uploads/2025/12/A-Very-Merry-Berthoud.jpg
END:VEVENT
BEGIN:VEVENT
DTSTART;TZID=UTC:20251203T160000
DTEND;TZID=UTC:20251203T180000
DTSTAMP:20260419T171556
CREATED:20250219T172348Z
LAST-MODIFIED:20251117T165528Z
UID:2384-1764777600-1764784800@www.heronlakescommunity.com
SUMMARY:Resident Happy Hour
DESCRIPTION:
URL:https://www.heronlakescommunity.com/event/resident-happy-hour-4/
LOCATION:TPC Colorado\, 2375 TPC Parkway\, Berthoud\, Colorado\, 80513
ATTACH;FMTTYPE=image/png:https://www.heronlakescommunity.com/wp-content/uploads/2025/02/Dec-25-Resident-Happy-Hour-1.png
END:VEVENT
BEGIN:VEVENT
DTSTART;TZID=UTC:20251130T160000
DTEND;TZID=UTC:20251130T200000
DTSTAMP:20260419T171556
CREATED:20250409T210059Z
LAST-MODIFIED:20250409T210059Z
UID:2424-1764518400-1764532800@www.heronlakescommunity.com
SUMMARY:Prime Rib Night
DESCRIPTION:Join us for our prime rib night! On the last Sunday of every month\, enjoy a 12oz prime rib from 4:00pm to close. \nReservations are strongly suggested to ensure you get a spot. Call 970-528-7073 or reserve online.
URL:https://www.heronlakescommunity.com/event/prime-rib-night-8/
LOCATION:Center Stage at TPC Colorado\, 2375 TPC Parkway\, Berthoud\, Colorado\, 80513
ATTACH;FMTTYPE=image/png:https://www.heronlakescommunity.com/wp-content/uploads/2025/04/Prime-Rib-Special-Sundays-1.png
END:VEVENT
BEGIN:VEVENT
DTSTART;VALUE=DATE:20251127
DTEND;VALUE=DATE:20251128
DTSTAMP:20260419T171556
CREATED:20250616T214121Z
LAST-MODIFIED:20250616T214121Z
UID:2499-1764201600-1764287999@www.heronlakescommunity.com
SUMMARY:Thanksgiving
DESCRIPTION:
URL:https://www.heronlakescommunity.com/event/thanksgiving/
LOCATION:Colorado
END:VEVENT
BEGIN:VEVENT
DTSTART;TZID=UTC:20251118T180000
DTEND;TZID=UTC:20251118T200000
DTSTAMP:20260419T171556
CREATED:20251107T194023Z
LAST-MODIFIED:20251107T194023Z
UID:2577-1763488800-1763496000@www.heronlakescommunity.com
SUMMARY:Woodinville Whiskey Wine Pairing
DESCRIPTION:Join TPC Colorado for their Woodinville Whiskey Pairing Dinner on November 18th!\nEnjoy five exceptional whiskeys paired with a custom menu for just $90++ per person. \nFounded in 2010\, Woodinville Whiskey has become one of the nation’s most awarded craft distilleries. Made from 100% locally grown grain and perfected through traditional small-batch methods\, their bourbon and rye have earned top honors — including Best Straight Bourbon at the San Francisco World Spirits Competition. \n  \nGet your tickets here!
URL:https://www.heronlakescommunity.com/event/woodinville-whiskey-wine-pairing/
LOCATION:TPC Colorado – The Governors Room\, 2375 TPC Parkway\, Berthoud\, Colorado\, 80513
ATTACH;FMTTYPE=image/png:https://www.heronlakescommunity.com/wp-content/uploads/2025/11/Woodinville-Whiskey-Pairing.png
END:VEVENT
BEGIN:VEVENT
DTSTART;VALUE=DATE:20251031
DTEND;VALUE=DATE:20251101
DTSTAMP:20260419T171556
CREATED:20250616T214054Z
LAST-MODIFIED:20250616T214054Z
UID:2497-1761868800-1761955199@www.heronlakescommunity.com
SUMMARY:Halloween
DESCRIPTION:
URL:https://www.heronlakescommunity.com/event/halloween/
LOCATION:Colorado
END:VEVENT
BEGIN:VEVENT
DTSTART;TZID=UTC:20251026T160000
DTEND;TZID=UTC:20251026T210000
DTSTAMP:20260419T171556
CREATED:20250409T202613Z
LAST-MODIFIED:20250409T202630Z
UID:2422-1761494400-1761512400@www.heronlakescommunity.com
SUMMARY:Prime Rib Night
DESCRIPTION:Join us for our prime rib night! On the last Sunday of every month\, enjoy a 12oz prime rib from 4:00pm to close. \nReservations are strongly suggested to ensure you get a spot. Call 970-528-7073 or reserve online.
URL:https://www.heronlakescommunity.com/event/prime-rib-night-7/
LOCATION:Center Stage at TPC Colorado\, 2375 TPC Parkway\, Berthoud\, Colorado\, 80513
END:VEVENT
BEGIN:VEVENT
DTSTART;TZID=UTC:20251004T110000
DTEND;TZID=UTC:20251004T180000
DTSTAMP:20260419T171556
CREATED:20250925T191453Z
LAST-MODIFIED:20250925T191453Z
UID:2545-1759575600-1759600800@www.heronlakescommunity.com
SUMMARY:Berthoud Oktoberfest
DESCRIPTION:The Berthoud Area Chamber of Commerce invites you to join them for the 2025 Annual Oktoberfest\, returning to Town Park on Saturday\, October 4th. Enjoy live German music\, beer\, delicious German food\, and MORE! Admission to the family-friendly German-themed festival is FREE and the event includes a number of fun activities for children and adults.
URL:https://www.heronlakescommunity.com/event/berthoud-oktoberfest/
LOCATION:Berthoud Town Park\, 200 7th Street\, Berthoud\, Colorado\, 80513
END:VEVENT
BEGIN:VEVENT
DTSTART;TZID=UTC:20250928T160000
DTEND;TZID=UTC:20250928T210000
DTSTAMP:20260419T171556
CREATED:20250409T200143Z
LAST-MODIFIED:20250409T200143Z
UID:2420-1759075200-1759093200@www.heronlakescommunity.com
SUMMARY:Prime Rib Night
DESCRIPTION:Join us for our prime rib night! On the last Sunday of every month\, enjoy a 12oz prime rib from 4:00pm to close. \nReservations are strongly suggested to ensure you get a spot. Call 970-528-7073 or reserve online.
URL:https://www.heronlakescommunity.com/event/prime-rib-night-6/
LOCATION:Center Stage at TPC Colorado\, 2375 TPC Parkway\, Berthoud\, Colorado\, 80513
END:VEVENT
BEGIN:VEVENT
DTSTART;TZID=UTC:20250927T090000
DTEND;TZID=UTC:20250927T130000
DTSTAMP:20260419T171556
CREATED:20250617T203145Z
LAST-MODIFIED:20250617T203145Z
UID:2522-1758963600-1758978000@www.heronlakescommunity.com
SUMMARY:The Berthoud Market at Town Park
DESCRIPTION:The Town of Berthoud is excited to offer another year of The Berthoud Market\, providing a vibrant space for our community of growers\, producers and makers to come together. The market offers ample opportunity to enjoy fresh produce\, handmade goods and local creations. Don’t miss free yoga on the second Saturday of each month\, or the FREE weekly kids’ craft activity hosted by Wildfire Arts Center. \n  \nWhen: Every Saturday\nJune 14 – September 27\nTime: 9:00 AM – 1:00 PM\nLocation: Berthoud Town Park\, 200 N 7th St\, Berthoud\, CO
URL:https://www.heronlakescommunity.com/event/the-berthoud-market-at-town-park-16/
LOCATION:Berthoud Town Park\, 200 7th Street\, Berthoud\, Colorado\, 80513
ATTACH;FMTTYPE=image/png:https://www.heronlakescommunity.com/wp-content/uploads/2025/06/Document.png
END:VEVENT
BEGIN:VEVENT
DTSTART;TZID=UTC:20250920T090000
DTEND;TZID=UTC:20250920T130000
DTSTAMP:20260419T171556
CREATED:20250617T202744Z
LAST-MODIFIED:20250617T202744Z
UID:2518-1758358800-1758373200@www.heronlakescommunity.com
SUMMARY:The Berthoud Market at Town Park
DESCRIPTION:The Town of Berthoud is excited to offer another year of The Berthoud Market\, providing a vibrant space for our community of growers\, producers and makers to come together. The market offers ample opportunity to enjoy fresh produce\, handmade goods and local creations. Don’t miss free yoga on the second Saturday of each month\, or the FREE weekly kids’ craft activity hosted by Wildfire Arts Center. \n  \nWhen: Every Saturday\nJune 14 – September 27\nTime: 9:00 AM – 1:00 PM\nLocation: Berthoud Town Park\, 200 N 7th St\, Berthoud\, CO
URL:https://www.heronlakescommunity.com/event/the-berthoud-market-at-town-park-14/
LOCATION:Berthoud Town Park\, 200 7th Street\, Berthoud\, Colorado\, 80513
ATTACH;FMTTYPE=image/png:https://www.heronlakescommunity.com/wp-content/uploads/2025/06/Document.png
END:VEVENT
BEGIN:VEVENT
DTSTART;TZID=UTC:20250913T090000
DTEND;TZID=UTC:20250913T130000
DTSTAMP:20260419T171556
CREATED:20250617T202951Z
LAST-MODIFIED:20250617T202951Z
UID:2520-1757754000-1757768400@www.heronlakescommunity.com
SUMMARY:The Berthoud Market at Town Park
DESCRIPTION:The Town of Berthoud is excited to offer another year of The Berthoud Market\, providing a vibrant space for our community of growers\, producers and makers to come together. The market offers ample opportunity to enjoy fresh produce\, handmade goods and local creations. Don’t miss free yoga on the second Saturday of each month\, or the FREE weekly kids’ craft activity hosted by Wildfire Arts Center. \n  \nWhen: Every Saturday\nJune 14 – September 27\nTime: 9:00 AM – 1:00 PM\nLocation: Berthoud Town Park\, 200 N 7th St\, Berthoud\, CO
URL:https://www.heronlakescommunity.com/event/the-berthoud-market-at-town-park-15/
LOCATION:Berthoud Town Park\, 200 7th Street\, Berthoud\, Colorado\, 80513
ATTACH;FMTTYPE=image/png:https://www.heronlakescommunity.com/wp-content/uploads/2025/06/Document.png
END:VEVENT
BEGIN:VEVENT
DTSTART;TZID=UTC:20250906T090000
DTEND;TZID=UTC:20250906T130000
DTSTAMP:20260419T171556
CREATED:20250617T202459Z
LAST-MODIFIED:20250617T202459Z
UID:2514-1757149200-1757163600@www.heronlakescommunity.com
SUMMARY:The Berthoud Market at Town Park
DESCRIPTION:The Town of Berthoud is excited to offer another year of The Berthoud Market\, providing a vibrant space for our community of growers\, producers and makers to come together. The market offers ample opportunity to enjoy fresh produce\, handmade goods and local creations. Don’t miss free yoga on the second Saturday of each month\, or the FREE weekly kids’ craft activity hosted by Wildfire Arts Center. \n  \nWhen: Every Saturday\nJune 14 – September 27\nTime: 9:00 AM – 1:00 PM\nLocation: Berthoud Town Park\, 200 N 7th St\, Berthoud\, CO
URL:https://www.heronlakescommunity.com/event/the-berthoud-market-at-town-park-12/
LOCATION:Berthoud Town Park\, 200 7th Street\, Berthoud\, Colorado\, 80513
ATTACH;FMTTYPE=image/png:https://www.heronlakescommunity.com/wp-content/uploads/2025/06/Document.png
END:VEVENT
BEGIN:VEVENT
DTSTART;TZID=UTC:20250903T180000
DTEND;TZID=UTC:20250903T190000
DTSTAMP:20260419T171556
CREATED:20250801T190235Z
LAST-MODIFIED:20250801T190306Z
UID:2536-1756922400-1756926000@www.heronlakescommunity.com
SUMMARY:Run Club
DESCRIPTION:Join us in the TPC Colorado Fitness Center for Run Club led by long-distance specialist Quinn Cooper! Enjoy a friendly 3-mile out-and-back route designed for all levels\, with Quinn’s expert guidance to keep you motivated. Runs are scheduled on varied days/times—perfect for fitting into busy schedules.
URL:https://www.heronlakescommunity.com/event/run-club-5/
LOCATION:TPC Colorado Fitness Center\, 2375 TPC Parkway\, Berthoud\, Colorado\, 80513
END:VEVENT
BEGIN:VEVENT
DTSTART;TZID=UTC:20250831T160000
DTEND;TZID=UTC:20250831T210000
DTSTAMP:20260419T171556
CREATED:20250409T193605Z
LAST-MODIFIED:20250409T193605Z
UID:2418-1756656000-1756674000@www.heronlakescommunity.com
SUMMARY:Prime Rib Night
DESCRIPTION:Join us for our prime rib night! On the last Sunday of every month\, enjoy a 12oz prime rib from 4:00pm to close. \nReservations are strongly suggested to ensure you get a spot. Call 970-528-7073 or reserve online.
URL:https://www.heronlakescommunity.com/event/prime-rib-night-5/
LOCATION:Center Stage at TPC Colorado\, 2375 TPC Parkway\, Berthoud\, Colorado\, 80513
ATTACH;FMTTYPE=image/png:https://www.heronlakescommunity.com/wp-content/uploads/2025/04/Prime-Rib-Special-Sundays-1.png
END:VEVENT
BEGIN:VEVENT
DTSTART;TZID=UTC:20250830T090000
DTEND;TZID=UTC:20250830T130000
DTSTAMP:20260419T171556
CREATED:20250617T202346Z
LAST-MODIFIED:20250617T202346Z
UID:2512-1756544400-1756558800@www.heronlakescommunity.com
SUMMARY:The Berthoud Market at Town Park
DESCRIPTION:The Town of Berthoud is excited to offer another year of The Berthoud Market\, providing a vibrant space for our community of growers\, producers and makers to come together. The market offers ample opportunity to enjoy fresh produce\, handmade goods and local creations. Don’t miss free yoga on the second Saturday of each month\, or the FREE weekly kids’ craft activity hosted by Wildfire Arts Center. \n  \nWhen: Every Saturday\nJune 14 – September 27\nTime: 9:00 AM – 1:00 PM\nLocation: Berthoud Town Park\, 200 N 7th St\, Berthoud\, CO
URL:https://www.heronlakescommunity.com/event/the-berthoud-market-at-town-park-11/
LOCATION:Berthoud Town Park\, 200 7th Street\, Berthoud\, Colorado\, 80513
ATTACH;FMTTYPE=image/png:https://www.heronlakescommunity.com/wp-content/uploads/2025/06/Document.png
END:VEVENT
BEGIN:VEVENT
DTSTART;TZID=UTC:20250827T170000
DTEND;TZID=UTC:20250827T200000
DTSTAMP:20260419T171556
CREATED:20250813T162116Z
LAST-MODIFIED:20250813T162116Z
UID:2539-1756314000-1756324800@www.heronlakescommunity.com
SUMMARY:Willow and Finch Private Shopping Event
DESCRIPTION:
URL:https://www.heronlakescommunity.com/event/willow-and-finch-private-shopping-event/
LOCATION:Willow and Finch\, 1032 N. Lincoln Ave\, Loveland\, Colorado\, 80537
ATTACH;FMTTYPE=image/jpeg:https://www.heronlakescommunity.com/wp-content/uploads/2025/08/heron-lakes-shopping.jpg
END:VEVENT
BEGIN:VEVENT
DTSTART;TZID=UTC:20250826T180000
DTEND;TZID=UTC:20250826T190000
DTSTAMP:20260419T171556
CREATED:20250801T184501Z
LAST-MODIFIED:20250801T184501Z
UID:2531-1756231200-1756234800@www.heronlakescommunity.com
SUMMARY:Run Club
DESCRIPTION:Join us in the TPC Colorado Fitness Center for Run Club led by long-distance specialist Quinn Cooper! Enjoy a friendly 3-mile out-and-back route designed for all levels\, with Quinn’s expert guidance to keep you motivated. Runs are scheduled on varied days/times—perfect for fitting into busy schedules.
URL:https://www.heronlakescommunity.com/event/run-club-4/
LOCATION:TPC Colorado Fitness Center\, 2375 TPC Parkway\, Berthoud\, Colorado\, 80513
END:VEVENT
BEGIN:VEVENT
DTSTART;TZID=UTC:20250823T090000
DTEND;TZID=UTC:20250823T130000
DTSTAMP:20260419T171556
CREATED:20250617T164418Z
LAST-MODIFIED:20250617T164418Z
UID:2510-1755939600-1755954000@www.heronlakescommunity.com
SUMMARY:The Berthoud Market at Town Park
DESCRIPTION:The Town of Berthoud is excited to offer another year of The Berthoud Market\, providing a vibrant space for our community of growers\, producers and makers to come together. The market offers ample opportunity to enjoy fresh produce\, handmade goods and local creations. Don’t miss free yoga on the second Saturday of each month\, or the FREE weekly kids’ craft activity hosted by Wildfire Arts Center. \n  \nWhen: Every Saturday\nJune 14 – September 27\nTime: 9:00 AM – 1:00 PM\nLocation: Berthoud Town Park\, 200 N 7th St\, Berthoud\, CO
URL:https://www.heronlakescommunity.com/event/the-berthoud-market-at-town-park-10/
LOCATION:Berthoud Town Park\, 200 7th Street\, Berthoud\, Colorado\, 80513
ATTACH;FMTTYPE=image/png:https://www.heronlakescommunity.com/wp-content/uploads/2025/06/Document.png
END:VEVENT
BEGIN:VEVENT
DTSTART;TZID=UTC:20250820T180000
DTEND;TZID=UTC:20250820T190000
DTSTAMP:20260419T171556
CREATED:20250801T184423Z
LAST-MODIFIED:20250801T184423Z
UID:2529-1755712800-1755716400@www.heronlakescommunity.com
SUMMARY:Run Club
DESCRIPTION:Join us in the TPC Colorado Fitness Center for Run Club led by long-distance specialist Quinn Cooper! Enjoy a friendly 3-mile out-and-back route designed for all levels\, with Quinn’s expert guidance to keep you motivated. Runs are scheduled on varied days/times—perfect for fitting into busy schedules.
URL:https://www.heronlakescommunity.com/event/run-club-3/
LOCATION:TPC Colorado Fitness Center\, 2375 TPC Parkway\, Berthoud\, Colorado\, 80513
END:VEVENT
BEGIN:VEVENT
DTSTART;TZID=UTC:20250816T090000
DTEND;TZID=UTC:20250816T130000
DTSTAMP:20260419T171556
CREATED:20250617T162543Z
LAST-MODIFIED:20250617T162543Z
UID:2508-1755334800-1755349200@www.heronlakescommunity.com
SUMMARY:The Berthoud Market at Town Park
DESCRIPTION:The Town of Berthoud is excited to offer another year of The Berthoud Market\, providing a vibrant space for our community of growers\, producers and makers to come together. The market offers ample opportunity to enjoy fresh produce\, handmade goods and local creations. Don’t miss free yoga on the second Saturday of each month\, or the FREE weekly kids’ craft activity hosted by Wildfire Arts Center. \n  \nWhen: Every Saturday\nJune 14 – September 27\nTime: 9:00 AM – 1:00 PM\nLocation: Berthoud Town Park\, 200 N 7th St\, Berthoud\, CO
URL:https://www.heronlakescommunity.com/event/the-berthoud-market-at-town-park-9/
LOCATION:Berthoud Town Park\, 200 7th Street\, Berthoud\, Colorado\, 80513
ATTACH;FMTTYPE=image/png:https://www.heronlakescommunity.com/wp-content/uploads/2025/06/Document.png
END:VEVENT
BEGIN:VEVENT
DTSTART;TZID=UTC:20250814T160000
DTEND;TZID=UTC:20250814T180000
DTSTAMP:20260419T171556
CREATED:20250219T172254Z
LAST-MODIFIED:20250801T184716Z
UID:2382-1755187200-1755194400@www.heronlakescommunity.com
SUMMARY:Resident Happy Hour
DESCRIPTION:RSVP Here: https://www.eventbrite.com/e/1519999331919?aff=oddtdtcreator \n 
URL:https://www.heronlakescommunity.com/event/resident-happy-hour-3/
LOCATION:TPC Colorado\, 2375 TPC Parkway\, Berthoud\, Colorado\, 80513
END:VEVENT
BEGIN:VEVENT
DTSTART;TZID=UTC:20250812T180000
DTEND;TZID=UTC:20250812T190000
DTSTAMP:20260419T171556
CREATED:20250801T184346Z
LAST-MODIFIED:20250801T184346Z
UID:2527-1755021600-1755025200@www.heronlakescommunity.com
SUMMARY:Run Club
DESCRIPTION:Join us in the TPC Colorado Fitness Center for Run Club led by long-distance specialist Quinn Cooper! Enjoy a friendly 3-mile out-and-back route designed for all levels\, with Quinn’s expert guidance to keep you motivated. Runs are scheduled on varied days/times—perfect for fitting into busy schedules.
URL:https://www.heronlakescommunity.com/event/run-club-2/
LOCATION:TPC Colorado Fitness Center\, 2375 TPC Parkway\, Berthoud\, Colorado\, 80513
END:VEVENT
BEGIN:VEVENT
DTSTART;TZID=UTC:20250809T090000
DTEND;TZID=UTC:20250809T130000
DTSTAMP:20260419T171556
CREATED:20250617T162406Z
LAST-MODIFIED:20250617T162406Z
UID:2506-1754730000-1754744400@www.heronlakescommunity.com
SUMMARY:The Berthoud Market at Town Park
DESCRIPTION:The Town of Berthoud is excited to offer another year of The Berthoud Market\, providing a vibrant space for our community of growers\, producers and makers to come together. The market offers ample opportunity to enjoy fresh produce\, handmade goods and local creations. Don’t miss free yoga on the second Saturday of each month\, or the FREE weekly kids’ craft activity hosted by Wildfire Arts Center. \n  \nWhen: Every Saturday\nJune 14 – September 27\nTime: 9:00 AM – 1:00 PM\nLocation: Berthoud Town Park\, 200 N 7th St\, Berthoud\, CO
URL:https://www.heronlakescommunity.com/event/the-berthoud-market-at-town-park-8/
LOCATION:Berthoud Town Park\, 200 7th Street\, Berthoud\, Colorado\, 80513
ATTACH;FMTTYPE=image/png:https://www.heronlakescommunity.com/wp-content/uploads/2025/06/Document.png
END:VEVENT
BEGIN:VEVENT
DTSTART;TZID=UTC:20250806T180000
DTEND;TZID=UTC:20250806T190000
DTSTAMP:20260419T171556
CREATED:20250801T184245Z
LAST-MODIFIED:20250801T184245Z
UID:2525-1754503200-1754506800@www.heronlakescommunity.com
SUMMARY:Run Club
DESCRIPTION:Join us in the TPC Colorado Fitness Center for Run Club led by long-distance specialist Quinn Cooper! Enjoy a friendly 3-mile out-and-back route designed for all levels\, with Quinn’s expert guidance to keep you motivated. Runs are scheduled on varied days/times—perfect for fitting into busy schedules.
URL:https://www.heronlakescommunity.com/event/run-club/
LOCATION:TPC Colorado Fitness Center\, 2375 TPC Parkway\, Berthoud\, Colorado\, 80513
END:VEVENT
BEGIN:VEVENT
DTSTART;TZID=UTC:20250802T090000
DTEND;TZID=UTC:20250802T130000
DTSTAMP:20260419T171556
CREATED:20250617T162026Z
LAST-MODIFIED:20250617T162026Z
UID:2504-1754125200-1754139600@www.heronlakescommunity.com
SUMMARY:The Berthoud Market at Town Park
DESCRIPTION:The Town of Berthoud is excited to offer another year of The Berthoud Market\, providing a vibrant space for our community of growers\, producers and makers to come together. The market offers ample opportunity to enjoy fresh produce\, handmade goods and local creations. Don’t miss free yoga on the second Saturday of each month\, or the FREE weekly kids’ craft activity hosted by Wildfire Arts Center. \n  \nWhen: Every Saturday\nJune 14 – September 27\nTime: 9:00 AM – 1:00 PM\nLocation: Berthoud Town Park\, 200 N 7th St\, Berthoud\, CO
URL:https://www.heronlakescommunity.com/event/the-berthoud-market-at-town-park-7/
LOCATION:Berthoud Town Park\, 200 7th Street\, Berthoud\, Colorado\, 80513
ATTACH;FMTTYPE=image/png:https://www.heronlakescommunity.com/wp-content/uploads/2025/06/Document.png
END:VEVENT
BEGIN:VEVENT
DTSTART;TZID=UTC:20250727T160000
DTEND;TZID=UTC:20250727T210000
DTSTAMP:20260419T171556
CREATED:20250409T192842Z
LAST-MODIFIED:20250409T192842Z
UID:2416-1753632000-1753650000@www.heronlakescommunity.com
SUMMARY:Prime Rib Night
DESCRIPTION:Join us for our prime rib night! On the last Sunday of every month\, enjoy a 12oz prime rib from 4:00pm to close. \nReservations are strongly suggested to ensure you get a spot. Call 970-528-7073 or reserve online.
URL:https://www.heronlakescommunity.com/event/prime-rib-night-4/
LOCATION:Center Stage at TPC Colorado\, 2375 TPC Parkway\, Berthoud\, Colorado\, 80513
ATTACH;FMTTYPE=image/png:https://www.heronlakescommunity.com/wp-content/uploads/2025/04/Prime-Rib-Special-Sundays-1.png
END:VEVENT
BEGIN:VEVENT
DTSTART;TZID=UTC:20250726T090000
DTEND;TZID=UTC:20250726T130000
DTSTAMP:20260419T171556
CREATED:20250617T161445Z
LAST-MODIFIED:20250617T161445Z
UID:2502-1753520400-1753534800@www.heronlakescommunity.com
SUMMARY:The Berthoud Market at Town Park
DESCRIPTION:The Town of Berthoud is excited to offer another year of The Berthoud Market\, providing a vibrant space for our community of growers\, producers and makers to come together. The market offers ample opportunity to enjoy fresh produce\, handmade goods and local creations. Don’t miss free yoga on the second Saturday of each month\, or the FREE weekly kids’ craft activity hosted by Wildfire Arts Center. \n  \nWhen: Every Saturday\nJune 14 – September 27\nTime: 9:00 AM – 1:00 PM\nLocation: Berthoud Town Park\, 200 N 7th St\, Berthoud\, CO
URL:https://www.heronlakescommunity.com/event/the-berthoud-market-at-town-park-6/
LOCATION:Berthoud Town Park\, 200 7th Street\, Berthoud\, Colorado\, 80513
ATTACH;FMTTYPE=image/png:https://www.heronlakescommunity.com/wp-content/uploads/2025/06/Document.png
END:VEVENT
END:VCALENDAR