BEGIN:VCALENDAR
VERSION:2.0
PRODID:-//Heron Lakes Community | Berthoud, CO - ECPv6.13.2.1//NONSGML v1.0//EN
CALSCALE:GREGORIAN
METHOD:PUBLISH
X-WR-CALNAME:Heron Lakes Community | Berthoud, CO
X-ORIGINAL-URL:https://www.heronlakescommunity.com
X-WR-CALDESC:Events for Heron Lakes Community | Berthoud, CO
REFRESH-INTERVAL;VALUE=DURATION:PT1H
X-Robots-Tag:noindex
X-PUBLISHED-TTL:PT1H
BEGIN:VTIMEZONE
TZID:UTC
BEGIN:STANDARD
TZOFFSETFROM:+0000
TZOFFSETTO:+0000
TZNAME:UTC
DTSTART:20240101T000000
END:STANDARD
END:VTIMEZONE
BEGIN:VEVENT
DTSTART;TZID=UTC:20241205T160000
DTEND;TZID=UTC:20241205T180000
DTSTAMP:20260420T080420
CREATED:20240325T212042Z
LAST-MODIFIED:20241104T194146Z
UID:2249-1733414400-1733421600@www.heronlakescommunity.com
SUMMARY:Resident Holiday Happy Hour
DESCRIPTION:Join us for a Holiday Happy Hour on December 5th from 4:00pm-6:00pm at TPC Colorado! Enjoy drink and appetizer specials\, plus free light hors d’oeuvres provided by BHMDS. See you there! \n  \nRSVP Here: https://tpc-colorado.ticketleap.com/resident-holiday-happy-hour
URL:https://www.heronlakescommunity.com/event/holiday-resident-happy-hour/
LOCATION:TPC Colorado – The Governors Room\, 2375 TPC Parkway\, Berthoud\, Colorado\, 80513
END:VEVENT
BEGIN:VEVENT
DTSTART;VALUE=DATE:20240902
DTEND;VALUE=DATE:20240903
DTSTAMP:20260420T080420
CREATED:20240326T145743Z
LAST-MODIFIED:20240326T145743Z
UID:2253-1725235200-1725321599@www.heronlakescommunity.com
SUMMARY:Labor Day Pool Party
DESCRIPTION:
URL:https://www.heronlakescommunity.com/event/labor-day-pool-party/
END:VEVENT
BEGIN:VEVENT
DTSTART;TZID=UTC:20240815T160000
DTEND;TZID=UTC:20240815T180000
DTSTAMP:20260420T080420
CREATED:20240325T211243Z
LAST-MODIFIED:20240326T144554Z
UID:2247-1723737600-1723744800@www.heronlakescommunity.com
SUMMARY:Summer Resident Happy Hour
DESCRIPTION:
URL:https://www.heronlakescommunity.com/event/summer-resident-happy-hour/
LOCATION:TPC Colorado – The Governors Room\, 2375 TPC Parkway\, Berthoud\, Colorado\, 80513
END:VEVENT
BEGIN:VEVENT
DTSTART;VALUE=DATE:20240708
DTEND;VALUE=DATE:20240715
DTSTAMP:20260420T080420
CREATED:20240326T201447Z
LAST-MODIFIED:20240326T210529Z
UID:2272-1720396800-1721001599@www.heronlakescommunity.com
SUMMARY:The Ascendant presented by Blue
DESCRIPTION:The Ascendant presented by Blue is the only annually reoccurring PGA TOUR associated event in the state of Colorado. This Korn Ferry Tour tournament has broken numerous records since its inauguration in 2019 for attendance and event quality. The field includes 156 golfers battling for purse and a chance to ascend to the PGA TOUR. \nThe beauty of being a Heron Lakes resident is that it feels as if this is our very own community event! Imagine seeing professional golfers from your window in a high-stakes tournament! \n  \nTo learn more about the tournament\, purchase tickets\, or register to volunteer\, visit www.theascendant.com \n  \nPlease feel free to contact the tournament staff if you have any questions. \nDrew Blass – Tournament Director\nDrewBlass@TPCColorado.com\n(970) 528-9957 \nAlyx Donahue – Tournament Manager\nAlyxDonahue@TPCColorado.com\n(303) 880-3952 \n 
URL:https://www.heronlakescommunity.com/event/the-ascendant-presented-by-blue/
LOCATION:TPC Colorado\, 2375 TPC Parkway\, Berthoud\, Colorado\, 80513
ATTACH;FMTTYPE=image/png:https://www.heronlakescommunity.com/wp-content/uploads/2023/04/Ascendant_Blue_Lockup_FA_The_Ascendant_Center_Color-1.png
END:VEVENT
BEGIN:VEVENT
DTSTART;TZID=UTC:20240606T170000
DTEND;TZID=UTC:20240606T200000
DTSTAMP:20260420T080420
CREATED:20240326T144821Z
LAST-MODIFIED:20240423T173221Z
UID:2257-1717693200-1717704000@www.heronlakescommunity.com
SUMMARY:Neighborhood Meet and Greet
DESCRIPTION:
URL:https://www.heronlakescommunity.com/event/neighborhood-meet-greet/
LOCATION:TPC Colorado\, 2375 TPC Parkway\, Berthoud\, Colorado\, 80513
ATTACH;FMTTYPE=image/png:https://www.heronlakescommunity.com/wp-content/uploads/2024/03/HL-Meet-and-Greet.png
END:VEVENT
BEGIN:VEVENT
DTSTART;VALUE=DATE:20240525
DTEND;VALUE=DATE:20240526
DTSTAMP:20260420T080420
CREATED:20240326T145333Z
LAST-MODIFIED:20240422T193719Z
UID:2251-1716595200-1716681599@www.heronlakescommunity.com
SUMMARY:Pool Opening Day
DESCRIPTION:Pool Opens: Saturday\, May 25th\, 2024\nSummer Pool Hours: 10:00 a.m. to 8:00 p.m.
URL:https://www.heronlakescommunity.com/event/pool-opening-day/
LOCATION:TPC Colorado\, 2375 TPC Parkway\, Berthoud\, Colorado\, 80513
ATTACH;FMTTYPE=image/png:https://www.heronlakescommunity.com/wp-content/uploads/2024/03/HL-Pool-Opening.png
END:VEVENT
BEGIN:VEVENT
DTSTART;TZID=UTC:20240523T160000
DTEND;TZID=UTC:20240523T180000
DTSTAMP:20260420T080420
CREATED:20240325T211013Z
LAST-MODIFIED:20240409T224847Z
UID:2240-1716480000-1716487200@www.heronlakescommunity.com
SUMMARY:Spring Resident Happy Hour
DESCRIPTION:Join us for Happy Hour on May 23rd from 4-6pm at TPC Colorado! Enjoy drink and appetizer specials\, plus free light hors d’oeuvres provided by BHMDS. See you there! \n——- \nDate: Thursday\, May 23rd \nTime: 4:00pm – 6:00pm \nCost: FREE \n  \nRSVP Here
URL:https://www.heronlakescommunity.com/event/spring-resident-happy-hour/
LOCATION:TPC Colorado – The Governors Room\, 2375 TPC Parkway\, Berthoud\, Colorado\, 80513
ATTACH;FMTTYPE=image/png:https://www.heronlakescommunity.com/wp-content/uploads/2024/03/HL-Resident-Spring-Happy-Hour.png
END:VEVENT
BEGIN:VEVENT
DTSTART;TZID=UTC:20240229T160000
DTEND;TZID=UTC:20240229T180000
DTSTAMP:20260420T080420
CREATED:20240325T214128Z
LAST-MODIFIED:20240325T221849Z
UID:2259-1709222400-1709229600@www.heronlakescommunity.com
SUMMARY:February Resident Happy Hour
DESCRIPTION:Join us for Happy Hour on February 29th from 4:00-6:00pm at TPC Colorado! Enjoy drink and appetizer specials\, plus free light hors d’oeuvres provided by BHMDS. See you there!
URL:https://www.heronlakescommunity.com/event/february-happy-hour/
LOCATION:TPC Colorado – The Governors Room\, 2375 TPC Parkway\, Berthoud\, Colorado\, 80513
END:VEVENT
END:VCALENDAR