BEGIN:VCALENDAR
VERSION:2.0
PRODID:-//Heron Lakes Community | Berthoud, CO - ECPv6.13.2.1//NONSGML v1.0//EN
CALSCALE:GREGORIAN
METHOD:PUBLISH
X-WR-CALNAME:Heron Lakes Community | Berthoud, CO
X-ORIGINAL-URL:https://www.heronlakescommunity.com
X-WR-CALDESC:Events for Heron Lakes Community | Berthoud, CO
REFRESH-INTERVAL;VALUE=DURATION:PT1H
X-Robots-Tag:noindex
X-PUBLISHED-TTL:PT1H
BEGIN:VTIMEZONE
TZID:UTC
BEGIN:STANDARD
TZOFFSETFROM:+0000
TZOFFSETTO:+0000
TZNAME:UTC
DTSTART:20250101T000000
END:STANDARD
END:VTIMEZONE
BEGIN:VEVENT
DTSTART;TZID=UTC:20250317T110000
DTEND;TZID=UTC:20250317T200000
DTSTAMP:20260424T101218
CREATED:20250411T232325Z
LAST-MODIFIED:20250411T232325Z
UID:2439-1742209200-1742241600@www.heronlakescommunity.com
SUMMARY:St. Patrick's Day Specials in Center Stage
DESCRIPTION:
URL:https://www.heronlakescommunity.com/event/st-patricks-day-specials-in-center-stage/
LOCATION:Center Stage at TPC Colorado\, 2375 TPC Parkway\, Berthoud\, Colorado\, 80513
END:VEVENT
END:VCALENDAR