BEGIN:VCALENDAR
VERSION:2.0
PRODID:-//Heron Lakes Community | Berthoud, CO - ECPv6.13.2.1//NONSGML v1.0//EN
CALSCALE:GREGORIAN
METHOD:PUBLISH
X-ORIGINAL-URL:https://www.heronlakescommunity.com
X-WR-CALDESC:Events for Heron Lakes Community | Berthoud, CO
REFRESH-INTERVAL;VALUE=DURATION:PT1H
X-Robots-Tag:noindex
X-PUBLISHED-TTL:PT1H
BEGIN:VTIMEZONE
TZID:UTC
BEGIN:STANDARD
TZOFFSETFROM:+0000
TZOFFSETTO:+0000
TZNAME:UTC
DTSTART:20250101T000000
END:STANDARD
END:VTIMEZONE
BEGIN:VEVENT
DTSTART;TZID=UTC:20250410T110000
DTEND;TZID=UTC:20250413T210000
DTSTAMP:20260424T083638
CREATED:20250410T212055Z
LAST-MODIFIED:20250410T212432Z
UID:2428-1744282800-1744578000@www.heronlakescommunity.com
SUMMARY:The Masters Specials in Center Stage
DESCRIPTION:The Masters is here\, and we’re celebrating with specials all weekend long! \nCome watch the tournament with us today through Sunday to enjoy delicious food and drink deals while cheering on your favorite players.
URL:https://www.heronlakescommunity.com/event/the-masters-specials/
LOCATION:Center Stage at TPC Colorado\, 2375 TPC Parkway\, Berthoud\, Colorado\, 80513
ATTACH;FMTTYPE=image/jpeg:https://www.heronlakescommunity.com/wp-content/uploads/2025/04/Masters-Menu-2025.jpg
END:VEVENT
BEGIN:VEVENT
DTSTART;TZID=UTC:20250415T150000
DTEND;TZID=UTC:20250415T160000
DTSTAMP:20260424T083638
CREATED:20250410T212239Z
LAST-MODIFIED:20250410T212901Z
UID:2431-1744729200-1744732800@www.heronlakescommunity.com
SUMMARY:Social Run Club
DESCRIPTION:Join the TPC Social Run Club! Meet at the TPC Fitness Center for friendly\, conversation-paced runs of 2–3 miles—perfect for beginners or advanced runners looking for a recovery run. Our mission is to bring the community together by combining gym fitness with inviting outdoor experiences to enhance longevity\, wellness\, and your overall fitness journey. Lace up\, connect\, and run toward a healthier\, happier you!
URL:https://www.heronlakescommunity.com/event/social-run-club/
LOCATION:TPC Colorado Fitness Center\, 2375 TPC Parkway\, Berthoud\, Colorado\, 80513
END:VEVENT
BEGIN:VEVENT
DTSTART;TZID=UTC:20250423T160000
DTEND;TZID=UTC:20250423T170000
DTSTAMP:20260424T083638
CREATED:20250410T212528Z
LAST-MODIFIED:20250410T212528Z
UID:2435-1745424000-1745427600@www.heronlakescommunity.com
SUMMARY:Social Run Club
DESCRIPTION:Join the TPC Social Run Club! Meet at the TPC Fitness Center for friendly\, conversation-paced runs of 2–3 miles—perfect for beginners or advanced runners looking for a recovery run. Our mission is to bring the community together by combining gym fitness with inviting outdoor experiences to enhance longevity\, wellness\, and your overall fitness journey. Lace up\, connect\, and run toward a healthier\, happier you!
URL:https://www.heronlakescommunity.com/event/social-run-club-2/
LOCATION:TPC Colorado Fitness Center\, 2375 TPC Parkway\, Berthoud\, Colorado\, 80513
END:VEVENT
BEGIN:VEVENT
DTSTART;TZID=UTC:20250427T160000
DTEND;TZID=UTC:20250427T210000
DTSTAMP:20260424T083639
CREATED:20250409T173108Z
LAST-MODIFIED:20250422T155248Z
UID:2407-1745769600-1745787600@www.heronlakescommunity.com
SUMMARY:Prime Rib Night
DESCRIPTION:Join us for our prime rib night! On the last Sunday of every month\, enjoy a 12oz prime rib from 4:00pm to close. This month\, the prime rib comes with a baked potato\, roasted baby carrots and asparagus. \nReservations are strongly suggested to ensure you get a spot. Call 970-528-7073 or reserve online.
URL:https://www.heronlakescommunity.com/event/prime-rib-night/
LOCATION:Center Stage at TPC Colorado\, 2375 TPC Parkway\, Berthoud\, Colorado\, 80513
ATTACH;FMTTYPE=image/png:https://www.heronlakescommunity.com/wp-content/uploads/2025/04/Prime-Rib-Special-Sundays-1.png
END:VEVENT
END:VCALENDAR