BEGIN:VCALENDAR
VERSION:2.0
PRODID:-//Heron Lakes Community | Berthoud, CO - ECPv6.13.2.1//NONSGML v1.0//EN
CALSCALE:GREGORIAN
METHOD:PUBLISH
X-WR-CALNAME:Heron Lakes Community | Berthoud, CO
X-ORIGINAL-URL:https://www.heronlakescommunity.com
X-WR-CALDESC:Events for Heron Lakes Community | Berthoud, CO
REFRESH-INTERVAL;VALUE=DURATION:PT1H
X-Robots-Tag:noindex
X-PUBLISHED-TTL:PT1H
BEGIN:VTIMEZONE
TZID:UTC
BEGIN:STANDARD
TZOFFSETFROM:+0000
TZOFFSETTO:+0000
TZNAME:UTC
DTSTART:20250101T000000
END:STANDARD
END:VTIMEZONE
BEGIN:VEVENT
DTSTART;TZID=UTC:20250522T160000
DTEND;TZID=UTC:20250522T180000
DTSTAMP:20260420T074321
CREATED:20250219T172213Z
LAST-MODIFIED:20250219T172213Z
UID:2380-1747929600-1747936800@www.heronlakescommunity.com
SUMMARY:Resident Happy Hour
DESCRIPTION:
URL:https://www.heronlakescommunity.com/event/resident-happy-hour-2/
LOCATION:TPC Colorado\, 2375 TPC Parkway\, Berthoud\, Colorado\, 80513
END:VEVENT
BEGIN:VEVENT
DTSTART;VALUE=DATE:20250524
DTEND;VALUE=DATE:20250525
DTSTAMP:20260420T074321
CREATED:20250219T172932Z
LAST-MODIFIED:20250219T183720Z
UID:2389-1748044800-1748131199@www.heronlakescommunity.com
SUMMARY:Pool Opening Day
DESCRIPTION:
URL:https://www.heronlakescommunity.com/event/pool-opening-day-2/
LOCATION:TPC Colorado\, 2375 TPC Parkway\, Berthoud\, Colorado\, 80513
END:VEVENT
BEGIN:VEVENT
DTSTART;TZID=UTC:20250525T160000
DTEND;TZID=UTC:20250525T210000
DTSTAMP:20260420T074321
CREATED:20250409T173558Z
LAST-MODIFIED:20250409T173558Z
UID:2412-1748188800-1748206800@www.heronlakescommunity.com
SUMMARY:Prime Rib Night
DESCRIPTION:Join us for our prime rib night! On the last Sunday of every month\, enjoy a 12oz prime rib from 4:00pm to close. \nReservations are strongly suggested to ensure you get a spot. Call 970-528-7073 or reserve online.
URL:https://www.heronlakescommunity.com/event/prime-rib-night-2/
LOCATION:Center Stage at TPC Colorado\, 2375 TPC Parkway\, Berthoud\, Colorado\, 80513
ATTACH;FMTTYPE=image/png:https://www.heronlakescommunity.com/wp-content/uploads/2025/04/Prime-Rib-Special-Sundays-1.png
END:VEVENT
BEGIN:VEVENT
DTSTART;TZID=UTC:20250530T100000
DTEND;TZID=UTC:20250530T150000
DTSTAMP:20260420T074321
CREATED:20250527T223454Z
LAST-MODIFIED:20250528T175234Z
UID:2450-1748599200-1748617200@www.heronlakescommunity.com
SUMMARY:Lake Club Demo Day
DESCRIPTION:Join us on Friday\, May 30th for a demo day at Lonetree Reservoir!\nCheck out top-of-the-line surf and pontoon boats from Island Lake Marine & Sports. All are welcome—come see what’s new on the lake! \nRSVP HERE
URL:https://www.heronlakescommunity.com/event/lake-club-demo-day/
LOCATION:Colorado
ATTACH;FMTTYPE=image/jpeg:https://www.heronlakescommunity.com/wp-content/uploads/2025/05/DEMO-DAYS-9.2.jpg
END:VEVENT
END:VCALENDAR